BEGIN:VCALENDAR
VERSION:2.0
PRODID:-//Richmond Free Public Library - ECPv6.15.20//NONSGML v1.0//EN
CALSCALE:GREGORIAN
METHOD:PUBLISH
X-WR-CALNAME:Richmond Free Public Library
X-ORIGINAL-URL:https://richmondfreepl.org
X-WR-CALDESC:Events for Richmond Free Public Library
REFRESH-INTERVAL;VALUE=DURATION:PT1H
X-Robots-Tag:noindex
X-PUBLISHED-TTL:PT1H
BEGIN:VTIMEZONE
TZID:America/New_York
BEGIN:DAYLIGHT
TZOFFSETFROM:-0500
TZOFFSETTO:-0400
TZNAME:EDT
DTSTART:20250309T070000
END:DAYLIGHT
BEGIN:STANDARD
TZOFFSETFROM:-0400
TZOFFSETTO:-0500
TZNAME:EST
DTSTART:20251102T060000
END:STANDARD
BEGIN:DAYLIGHT
TZOFFSETFROM:-0500
TZOFFSETTO:-0400
TZNAME:EDT
DTSTART:20260308T070000
END:DAYLIGHT
BEGIN:STANDARD
TZOFFSETFROM:-0400
TZOFFSETTO:-0500
TZNAME:EST
DTSTART:20261101T060000
END:STANDARD
BEGIN:DAYLIGHT
TZOFFSETFROM:-0500
TZOFFSETTO:-0400
TZNAME:EDT
DTSTART:20270314T070000
END:DAYLIGHT
BEGIN:STANDARD
TZOFFSETFROM:-0400
TZOFFSETTO:-0500
TZNAME:EST
DTSTART:20271107T060000
END:STANDARD
END:VTIMEZONE
BEGIN:VEVENT
DTSTART;TZID=America/New_York:20260423T103000
DTEND;TZID=America/New_York:20260423T113000
DTSTAMP:20260423T110341
CREATED:20251213T173509Z
LAST-MODIFIED:20251213T173509Z
UID:2986-1776940200-1776943800@richmondfreepl.org
SUMMARY:Richmond Reads is cancelled today
DESCRIPTION:Richmond Reads is cancelled today.
URL:https://richmondfreepl.org/event/richmond-reads-is-cancelled-today/
END:VEVENT
BEGIN:VEVENT
DTSTART;TZID=America/New_York:20260424T100000
DTEND;TZID=America/New_York:20260424T110000
DTSTAMP:20260423T110341
CREATED:20251211T195305Z
LAST-MODIFIED:20251211T195305Z
UID:2936-1777024800-1777028400@richmondfreepl.org
SUMMARY:FIBER ARTS GROUP
DESCRIPTION:Fiber Arts Club  \nDrop in – no registration required \nBring your own fiber work and enjoy chatting with other fiber arts enthusiasts.
URL:https://richmondfreepl.org/event/fiber-arts-group-41/
END:VEVENT
BEGIN:VEVENT
DTSTART;TZID=America/New_York:20260428T140000
DTEND;TZID=America/New_York:20260428T150000
DTSTAMP:20260423T110341
CREATED:20260324T201405Z
LAST-MODIFIED:20260324T201405Z
UID:3115-1777384800-1777388400@richmondfreepl.org
SUMMARY:Book Discussion - What We Can Know
DESCRIPTION:We will be discussing \nWhat We Can Know \nby Ian McEwan \nCopies available at the library to read in advance.
URL:https://richmondfreepl.org/event/book-discussion-what-we-can-know/
END:VEVENT
BEGIN:VEVENT
DTSTART;TZID=America/New_York:20260430T103000
DTEND;TZID=America/New_York:20260430T113000
DTSTAMP:20260423T110341
CREATED:20251213T173629Z
LAST-MODIFIED:20251213T173629Z
UID:2989-1777545000-1777548600@richmondfreepl.org
SUMMARY:Richmond Reads
DESCRIPTION:Join South Berkshire Kids at the Richmond Library for a storytime & craft.  This weekly parent-child program is free and open to the community.  Best for ages 2-5
URL:https://richmondfreepl.org/event/richmond-reads-113/
END:VEVENT
END:VCALENDAR